BEGIN:VCALENDAR
VERSION:2.0
PRODID:-//ChamberMaster//Event Calendar 2.0//EN
METHOD:PUBLISH
X-PUBLISHED-TTL:P3D
REFRESH-INTERVAL:P3D
CALSCALE:GREGORIAN
BEGIN:VEVENT
DTSTART:20150528T230000Z
DTEND:20150529T000000Z
X-MICROSOFT-CDO-ALLDAYEVENT:FALSE
SUMMARY:5 Keys to Landing the Right Job
DESCRIPTION:Do you know a stay at home Mom or Dad ready to div back into the workforce but not sure how?\n\nAre you a recent college grad looking for a full-time job?\n\nAre you ready to make a change?\n\nThen\, you won't want to miss this super informative 45 minute workshop to learn best practice tips and essentials actions you should be taking to make the most of your job search.\n\nDid you know that 70-80% of jobs today are found through networking? Learn this and more great action tips!\n\nBased on popular demand\, we're offering 2 sessions.  Space is limited and fills quickly.  So\, don't delay.  Register today!
X-ALT-DESC;FMTTYPE=text/html:<p>Do you know a&nbsp\;<strong><em>stay at home Mom or Dad</em></strong>&nbsp\;ready to div back into the workforce but not sure how?</p>\n\n<p>Are you a&nbsp\;<strong><em>recent college grad</em></strong>&nbsp\;looking for a full-time job?</p>\n\n<p>Are you&nbsp\;<strong><em>ready to make a change</em></strong>?</p>\n\n<p>Then\, you won&rsquo\;t want to miss this super informative 45 minute workshop to learn best practice tips and essentials actions you should be taking to make the most of your job search.</p>\n\n<p>Did you know that 70-80% of jobs today are found through networking? Learn this and more great action tips!</p>\n\n<p>Based on popular demand\, we&rsquo\;re offering 2 sessions. &nbsp\;Space is limited and fills quickly. &nbsp\;So\, don&rsquo\;t delay. &nbsp\;Register today!</p>\n
LOCATION:Cornerstone Coffeehouse\, Camp Hill\, PA
UID:e.1500.918
SEQUENCE:3
DTSTAMP:20260423T071626Z
URL:https://business.hanoverchamber.com/events/details/5-keys-to-landing-the-right-job-05-28-2015-918
END:VEVENT

END:VCALENDAR
