BEGIN:VCALENDAR
VERSION:2.0
PRODID:-//ChamberMaster//Event Calendar 2.0//EN
METHOD:PUBLISH
X-PUBLISHED-TTL:P3D
REFRESH-INTERVAL:P3D
CALSCALE:GREGORIAN
BEGIN:VEVENT
DTSTART:20170602T100000Z
DTEND:20170602T130000Z
X-MICROSOFT-CDO-ALLDAYEVENT:FALSE
SUMMARY:2017 Multiphasic Blood Screenings
DESCRIPTION:Hanover Hospital presents 2017 Multiphasic Blood Screenings. \n\nA low cost\, comprehensive\, multiphasic blood screening.\n\nRegistration begins April 17\, 2017.\n\n\n\nAvailable test and cost:\n\nMultiphasic Blood Screen $32\n\nThyroid Screen (TSH) $12\n\nGlyco Hemoglobin $15\n\n\n\n12 hours of fasting are required.
X-ALT-DESC;FMTTYPE=text/html:Hanover Hospital presents 2017 Multiphasic Blood Screenings.&nbsp\;<br />\nA low cost\, comprehensive\, multiphasic blood screening.<br />\nRegistration begins April 17\, 2017.<br />\n<br />\nAvailable test and cost:<br />\nMultiphasic Blood Screen $32<br />\nThyroid Screen (TSH) $12<br />\nGlyco Hemoglobin $15<br />\n<br />\n12 hours of fasting are required.
LOCATION:National Guard Armory 51 W. Clearview Road Hanover\, PA 17331
UID:e.1500.2501
SEQUENCE:3
DTSTAMP:20260421T184007Z
URL:https://business.hanoverchamber.com/events/details/2017-multiphasic-blood-screenings-2501
END:VEVENT

END:VCALENDAR
