BEGIN:VCALENDAR
VERSION:2.0
PRODID:-//ChamberMaster//Event Calendar 2.0//EN
METHOD:PUBLISH
X-PUBLISHED-TTL:P3D
REFRESH-INTERVAL:P3D
CALSCALE:GREGORIAN
BEGIN:VEVENT
DTSTART:20151203T230000Z
DTEND:20151204T030000Z
X-MICROSOFT-CDO-ALLDAYEVENT:FALSE
SUMMARY:2015 Winter Gala & Celebration of Entrepreneurship
DESCRIPTION:WHO SAYS YOU CAN'T MIX BUSINESS & PLEASURE The Biz Knows Winter Gala is a Celebration of Entrepreneurship. Business owners\, executives\, and other professionals come from various states to network and partake in this evening of food\, fun\, and fellowship. You work hard all year\, attend this event to unwind a little while still cultivating meaningful business relationships. Enjoy an elegant evening of dinner\, live music and other presentations\, dancing and prizes.
X-ALT-DESC;FMTTYPE=text/html:WHO SAYS YOU CAN&#39\;T MIX BUSINESS &amp\; PLEASURE The Biz Knows Winter Gala is a Celebration of Entrepreneurship. Business owners\, executives\, and other professionals come from various states to network and partake in this evening of food\, fun\, and fellowship. You work hard all year\, attend this event to unwind a little while still cultivating meaningful business relationships. Enjoy an elegant evening of dinner\, live music and other presentations\, dancing and prizes.
LOCATION:Hilton Garden Inn Baltimore/White Marsh 5015 Campbell Boulevard Baltimore\, MD 21236
UID:e.1500.1020
SEQUENCE:3
DTSTAMP:20260422T204939Z
URL:https://business.hanoverchamber.com/events/details/2015-winter-gala-celebration-of-entrepreneurship-12-03-2015-1020
END:VEVENT

END:VCALENDAR
