BEGIN:VCALENDAR
VERSION:2.0
PRODID:-//ChamberMaster//Event Calendar 2.0//EN
METHOD:PUBLISH
X-PUBLISHED-TTL:P3D
REFRESH-INTERVAL:P3D
CALSCALE:GREGORIAN
BEGIN:VEVENT
DTSTART;VALUE=DATE:20150814
DTEND;VALUE=DATE:20150815
TRANSP:TRANSPARENT
X-MICROSOFT-CDO-ALLDAYEVENT:TRUE
SUMMARY:2015 Hanover Domestic Violence Task Force- Walk A Mile in Her Shoes
DESCRIPTION:Save the date or SIGN UP NOW!!
X-ALT-DESC;FMTTYPE=text/html:Save the date or SIGN UP NOW!!
LOCATION:August 14\, 2015 at the Warehime- Myers Mansion
UID:e.1500.940
SEQUENCE:3
DTSTAMP:20260423T024506Z
URL:https://business.hanoverchamber.com/events/details/2015-hanover-domestic-violence-task-force-walk-a-mile-in-her-shoes-08-14-2015-940
END:VEVENT

END:VCALENDAR
