BEGIN:VCALENDAR
VERSION:2.0
PRODID:-//ChamberMaster//Event Calendar 2.0//EN
METHOD:PUBLISH
X-PUBLISHED-TTL:P3D
REFRESH-INTERVAL:P3D
CALSCALE:GREGORIAN
BEGIN:VEVENT
DTSTART:20150322T160000Z
DTEND:20150322T210000Z
X-MICROSOFT-CDO-ALLDAYEVENT:FALSE
SUMMARY:15th Annual Maryland Women's Expo
DESCRIPTION:SELF HEALTH and WEALTH Concepts and Tools for Success 20 Speakers - Sharing Trade Secrets 1200 Attendees - Bringing the Community To YOU 200 Exhibits - Businesses\, Entrepreneurs and Non Profits Our Goal: amazing entrepreneurs?.. Learn more at http://2015expomd.eventbrite.com
X-ALT-DESC;FMTTYPE=text/html:SELF HEALTH and WEALTH Concepts and Tools for Success 20 Speakers - Sharing Trade Secrets 1200 Attendees - Bringing the Community To YOU 200 Exhibits - Businesses\, Entrepreneurs and Non Profits Our Goal: amazing entrepreneurs?.. Learn more at http://2015expomd.eventbrite.com
LOCATION:CCBC 800 South Rolling Road Catonsville\, MD 21228
UID:e.1500.854
SEQUENCE:3
DTSTAMP:20260423T110330Z
URL:https://business.hanoverchamber.com/events/details/15th-annual-maryland-women-s-expo-03-22-2015-854
END:VEVENT

END:VCALENDAR
